BEGIN:VCALENDAR
VERSION:2.0
PRODID:-//Filipino Council of the Archdiocese of Baltimore - ECPv6.15.20//NONSGML v1.0//EN
CALSCALE:GREGORIAN
METHOD:PUBLISH
X-WR-CALNAME:Filipino Council of the Archdiocese of Baltimore
X-ORIGINAL-URL:https://filipino-council-aob.org
X-WR-CALDESC:Events for Filipino Council of the Archdiocese of Baltimore
REFRESH-INTERVAL;VALUE=DURATION:PT1H
X-Robots-Tag:noindex
X-PUBLISHED-TTL:PT1H
BEGIN:VTIMEZONE
TZID:America/New_York
BEGIN:DAYLIGHT
TZOFFSETFROM:-0500
TZOFFSETTO:-0400
TZNAME:EDT
DTSTART:20240310T070000
END:DAYLIGHT
BEGIN:STANDARD
TZOFFSETFROM:-0400
TZOFFSETTO:-0500
TZNAME:EST
DTSTART:20241103T060000
END:STANDARD
BEGIN:DAYLIGHT
TZOFFSETFROM:-0500
TZOFFSETTO:-0400
TZNAME:EDT
DTSTART:20250309T070000
END:DAYLIGHT
BEGIN:STANDARD
TZOFFSETFROM:-0400
TZOFFSETTO:-0500
TZNAME:EST
DTSTART:20251102T060000
END:STANDARD
BEGIN:DAYLIGHT
TZOFFSETFROM:-0500
TZOFFSETTO:-0400
TZNAME:EDT
DTSTART:20260308T070000
END:DAYLIGHT
BEGIN:STANDARD
TZOFFSETFROM:-0400
TZOFFSETTO:-0500
TZNAME:EST
DTSTART:20261101T060000
END:STANDARD
BEGIN:DAYLIGHT
TZOFFSETFROM:-0500
TZOFFSETTO:-0400
TZNAME:EDT
DTSTART:20270314T070000
END:DAYLIGHT
BEGIN:STANDARD
TZOFFSETFROM:-0400
TZOFFSETTO:-0500
TZNAME:EST
DTSTART:20271107T060000
END:STANDARD
END:VTIMEZONE
BEGIN:VTIMEZONE
TZID:Asia/Dubai
BEGIN:STANDARD
TZOFFSETFROM:+0400
TZOFFSETTO:+0400
TZNAME:+04
DTSTART:20240101T000000
END:STANDARD
END:VTIMEZONE
BEGIN:VEVENT
DTSTART;TZID=America/New_York:20250830T130000
DTEND;TZID=America/New_York:20250830T130000
DTSTAMP:20260425T082706
CREATED:20250819T014155Z
LAST-MODIFIED:20250819T015851Z
UID:1040-1756558800-1756558800@filipino-council-aob.org
SUMMARY:2025 Annual Crab Feast Fundraiser
DESCRIPTION:Screenshot
URL:https://filipino-council-aob.org/event/2025-annual-crab-feast-fundraiser/
LOCATION:RETELLE ROOM\, 1800 Dinger Road\, Annapolis\, MD\, 21402\, United States
CATEGORIES:Crab Feast
END:VEVENT
BEGIN:VEVENT
DTSTART;TZID=Asia/Dubai:20250928T140000
DTEND;TZID=Asia/Dubai:20250928T170000
DTSTAMP:20260425T082706
CREATED:20250802T183235Z
LAST-MODIFIED:20250812T081321Z
UID:1016-1759068000-1759078800@filipino-council-aob.org
SUMMARY:15th Archdiocesan Filipino Saints Fiesta Celebration
DESCRIPTION:
URL:https://filipino-council-aob.org/event/15th-archdiocesan-filipino-saints-fiesta-celebration/
LOCATION:Cathedral Mary Our Queen\, 5200 N Charles St.\, 21210\, United States
CATEGORIES:Feast day,Saints
ATTACH;FMTTYPE=image/jpeg:https://filipino-council-aob.org/wp-content/uploads/2025/08/flyer.jpg
END:VEVENT
BEGIN:VEVENT
DTSTART;TZID=America/New_York:20251025T150000
DTEND;TZID=America/New_York:20251025T200000
DTSTAMP:20260425T082706
CREATED:20250819T015638Z
LAST-MODIFIED:20250819T015638Z
UID:1047-1761404400-1761422400@filipino-council-aob.org
SUMMARY:Halloween Costume Party 2025
DESCRIPTION:
URL:https://filipino-council-aob.org/event/halloween-costume-party-2025/
LOCATION:Severna Park Community Center\, 623 Baltimore Annapolis Blvd\, Severna Park\, MD\, 21146
CATEGORIES:Halloween
ATTACH;FMTTYPE=image/jpeg:https://filipino-council-aob.org/wp-content/uploads/2025/08/1000023904.jpg
ORGANIZER;CN="Bayanihan Cultural Dance Group Inc.":MAILTO:jssmithlaw@verizon.net
END:VEVENT
BEGIN:VEVENT
DTSTART;TZID=America/New_York:20251129T190000
DTEND;TZID=America/New_York:20251129T230000
DTSTAMP:20260425T082706
CREATED:20251002T002906Z
LAST-MODIFIED:20251127T182623Z
UID:1052-1764442800-1764457200@filipino-council-aob.org
SUMMARY:ARCHDIOCESAN FILIPINO AWARDS GALA 2025
DESCRIPTION:
URL:https://filipino-council-aob.org/event/archdiocesan-filipino-awards-gala-2025/
LOCATION:Martins West Banquet Hall\, 6817 Dogwood Rd.\, Baltimore\, MD\, 21244\, United States
CATEGORIES:Gala
ATTACH;FMTTYPE=image/jpeg:https://filipino-council-aob.org/wp-content/uploads/2025/10/att.yF_PoRCDBjP1v3THywV9GQ8mW25ff4UljECW1AEPW-A.jpg
END:VEVENT
BEGIN:VEVENT
DTSTART;TZID=America/New_York:20251218T190000
DTEND;TZID=America/New_York:20251221T150000
DTSTAMP:20260425T082706
CREATED:20251218T005618Z
LAST-MODIFIED:20251218T005708Z
UID:1074-1766084400-1766329200@filipino-council-aob.org
SUMMARY:Simbang Gabi 2025
DESCRIPTION:You are cordially invited to this amazing gathering as we honor the celebrate the beautiful Beloved Filipino Tradition of Simbang Gabi\, a sacred time of Faith\, Community and Hope.  \nThis cherished celebration unfolds over nines days of Holy Mass held across nine different parishes\, uniting hearts in prayer and thanksgiving. \nCome Celebrate with us\, share in the Joy of the season and be part of this beautiful expression of faith and tradition. \n*See Flyer for information
URL:https://filipino-council-aob.org/event/simbang-gabi-2025/
LOCATION:MD
ATTACH;FMTTYPE=image/jpeg:https://filipino-council-aob.org/wp-content/uploads/2025/12/2025-simbang-gabi-flyer3.jpg
END:VEVENT
BEGIN:VEVENT
DTSTART;TZID=America/New_York:20260516T093000
DTEND;TZID=America/New_York:20260516T150000
DTSTAMP:20260425T082706
CREATED:20260413T035036Z
LAST-MODIFIED:20260413T035036Z
UID:1111-1778923800-1778943600@filipino-council-aob.org
SUMMARY:FLARE: HALF THROUGH\, God is not yet finished with you\, yet.
DESCRIPTION:
URL:https://filipino-council-aob.org/event/flare-half-through-god-is-not-yet-finished-with-you-yet/
LOCATION:Catholic Community of St. Francis Xavier\, 13717 Cuba Road\, Hunt Valley\, MD\, 21030\, United States
CATEGORIES:F.L.A.R.E
ATTACH;FMTTYPE=image/jpeg:https://filipino-council-aob.org/wp-content/uploads/2026/04/IMG_9364.jpg
END:VEVENT
END:VCALENDAR