BEGIN:VCALENDAR
VERSION:2.0
PRODID:-//Filipino Council of the Archdiocese of Baltimore - ECPv6.15.20//NONSGML v1.0//EN
CALSCALE:GREGORIAN
METHOD:PUBLISH
X-WR-CALNAME:Filipino Council of the Archdiocese of Baltimore
X-ORIGINAL-URL:https://filipino-council-aob.org
X-WR-CALDESC:Events for Filipino Council of the Archdiocese of Baltimore
REFRESH-INTERVAL;VALUE=DURATION:PT1H
X-Robots-Tag:noindex
X-PUBLISHED-TTL:PT1H
BEGIN:VTIMEZONE
TZID:Asia/Dubai
BEGIN:STANDARD
TZOFFSETFROM:+0400
TZOFFSETTO:+0400
TZNAME:+04
DTSTART:20240101T000000
END:STANDARD
END:VTIMEZONE
BEGIN:VEVENT
DTSTART;TZID=Asia/Dubai:20250928T140000
DTEND;TZID=Asia/Dubai:20250928T170000
DTSTAMP:20260424T124343
CREATED:20250802T183235Z
LAST-MODIFIED:20250812T081321Z
UID:1016-1759068000-1759078800@filipino-council-aob.org
SUMMARY:15th Archdiocesan Filipino Saints Fiesta Celebration
DESCRIPTION:
URL:https://filipino-council-aob.org/event/15th-archdiocesan-filipino-saints-fiesta-celebration/
LOCATION:Cathedral Mary Our Queen\, 5200 N Charles St.\, 21210\, United States
CATEGORIES:Feast day,Saints
ATTACH;FMTTYPE=image/jpeg:https://filipino-council-aob.org/wp-content/uploads/2025/08/flyer.jpg
END:VEVENT
END:VCALENDAR